BEGIN:VCALENDAR
VERSION:2.0
PRODID:-//eventon.com NONSGML v1.0//EN
CALSCALE:GREGORIAN
METHOD:PUBLISH
BEGIN:VEVENT
UID:69e5ec4d61a12
DTSTAMP:20260420T090517Z
DTSTART:20260314T170000Z
DTEND:20260314T190000Z
LOCATION:
SUMMARY:Mantrowanie - wieczÃ³r peÅ‚en muzyki!
DESCRIPTION:Â Zapraszamy na kolejne w tym roku mantrowanie w LeÅ›nej Przyst
 ani &nbsp;Spotkanie poprowadzi Kris Du (Rejsy z gitarÄ…)&nbsp; &nbsp;Mantr 
 nie trzeba umieÄ‡ ani siÄ™ uczyÄ‡.Wystarczy daÄ‡ siÄ™ ponieÅ›Ä‡ &nbsp;OprÃ³
 cz mantr â€“ Å›wietna kawa wg piÄ™ciu przemiani pyszna atmosfera w niezwykÅ
 ‚ym miejscu na skraju lasu&nbsp; &nbsp;Mantry majÄ… dziaÅ‚anie terapeutyczn
 e\,  rozluÅºniajÄ…ce i transformujÄ…ce.Ich[..]\nhttps://projekt-lb.pl/event
 s/mantrowanie-wieczor-pelen-muzyki/
URL:https://projekt-lb.pl/events/mantrowanie-wieczor-pelen-muzyki/
END:VEVENT
END:VCALENDAR